BEGIN:VCALENDAR
VERSION:2.0
PRODID:-//ccnwc.org//NONSGML kigkonsult.se iCalcreator 2.30.10//
CALSCALE:GREGORIAN
METHOD:PUBLISH
UID:f52f3daa-03d6-4026-a9fd-1688e0b204ca
X-WR-CALDESC:Food distribution open to the public.
X-WR-RELCALID:1f206f9d27eb0c630b56f17879a3ab7a
X-WR-TIMEZONE:America/Los_Angeles
BEGIN:VTIMEZONE
TZID:America/Los_Angeles
BEGIN:STANDARD
TZNAME:PST
DTSTART:20241103T020000
TZOFFSETFROM:-0700
TZOFFSETTO:-0800
RDATE:20251102T020000
RDATE:20261101T020000
END:STANDARD
BEGIN:DAYLIGHT
TZNAME:PDT
DTSTART:20250309T020000
TZOFFSETFROM:-0800
TZOFFSETTO:-0700
RDATE:20260308T020000
END:DAYLIGHT
END:VTIMEZONE
BEGIN:VEVENT
UID:fd21d814-995a-463e-adc5-a4bf6d00a805
DTSTAMP:20260420T133737Z
DESCRIPTION:Food distribution open to the public.
DTSTART;TZID=America/Los_Angeles:20250520T140000
DTEND;TZID=America/Los_Angeles:20250520T150000
LOCATION:3345 Santa Rosa Ave.\, Santa Rosa\, CA 95407 US
SUMMARY:Santa Rosa Food Distribution
END:VEVENT
END:VCALENDAR
