BEGIN:VCALENDAR
VERSION:2.0
PRODID:-//ccnwc.org//NONSGML kigkonsult.se iCalcreator 2.30.10//
CALSCALE:GREGORIAN
METHOD:PUBLISH
UID:aa1c22c0-bd3c-4324-abaf-31ac99a8811f
X-WR-CALDESC:Food distribution open to the public.
X-WR-RELCALID:2c7fb2747903b74c8d822176ff41d0bc
X-WR-TIMEZONE:America/Los_Angeles
BEGIN:VTIMEZONE
TZID:America/Los_Angeles
BEGIN:STANDARD
TZNAME:PST
DTSTART:20241103T020000
TZOFFSETFROM:-0700
TZOFFSETTO:-0800
RDATE:20251102T020000
RDATE:20261101T020000
END:STANDARD
BEGIN:DAYLIGHT
TZNAME:PDT
DTSTART:20250309T020000
TZOFFSETFROM:-0800
TZOFFSETTO:-0700
RDATE:20260308T020000
END:DAYLIGHT
END:VTIMEZONE
BEGIN:VEVENT
UID:25c67dfc-e996-4f4d-8fe8-c4bcc611fc9f
DTSTAMP:20260424T101453Z
DESCRIPTION:Food distribution open to the public.
DTSTART;TZID=America/Los_Angeles:20250514T093000
DTEND;TZID=America/Los_Angeles:20250514T103000
LOCATION:7983 Covert Ln.\, Sebastopol\, CA 95472 US
SUMMARY:Sebastopol Food Distribution
END:VEVENT
END:VCALENDAR
