BEGIN:VCALENDAR
VERSION:2.0
PRODID:-//ccnwc.org//NONSGML kigkonsult.se iCalcreator 2.30.10//
CALSCALE:GREGORIAN
METHOD:PUBLISH
UID:4df29772-ab07-4407-abf3-ad9e9601dbed
X-WR-CALDESC:Food distribution open to the public.
X-WR-RELCALID:73ea45b91d84cb07d9a82b93452990f2
X-WR-TIMEZONE:America/Los_Angeles
BEGIN:VTIMEZONE
TZID:America/Los_Angeles
BEGIN:STANDARD
TZNAME:PST
DTSTART:20241103T020000
TZOFFSETFROM:-0700
TZOFFSETTO:-0800
RDATE:20251102T020000
RDATE:20261101T020000
END:STANDARD
BEGIN:DAYLIGHT
TZNAME:PDT
DTSTART:20250309T020000
TZOFFSETFROM:-0800
TZOFFSETTO:-0700
RDATE:20260308T020000
END:DAYLIGHT
END:VTIMEZONE
BEGIN:VEVENT
UID:2a5af8ec-9389-4d59-a55b-f2dfc953d34e
DTSTAMP:20260425T164348Z
DESCRIPTION:Food distribution open to the public.
DTSTART;TZID=America/Los_Angeles:20250513T090000
DTEND;TZID=America/Los_Angeles:20250513T110000
LOCATION:3730 Bohemian Hwy\,  Occidental\, CA 95465 US
SUMMARY:Occidental Food Distribution
END:VEVENT
END:VCALENDAR
