BEGIN:VCALENDAR
VERSION:2.0
PRODID:-//ccnwc.org//NONSGML kigkonsult.se iCalcreator 2.30.10//
CALSCALE:GREGORIAN
METHOD:PUBLISH
UID:1d3b1ccc-1147-4966-8667-7c1a9be96ed4
X-WR-CALDESC:Food distribution open to the public.
X-WR-RELCALID:d274bf81325a3aa2fbc33d4d1dd13b62
X-WR-TIMEZONE:America/Los_Angeles
BEGIN:VTIMEZONE
TZID:America/Los_Angeles
BEGIN:STANDARD
TZNAME:PST
DTSTART:20241103T020000
TZOFFSETFROM:-0700
TZOFFSETTO:-0800
RDATE:20251102T020000
END:STANDARD
BEGIN:DAYLIGHT
TZNAME:PDT
DTSTART:20250309T020000
TZOFFSETFROM:-0800
TZOFFSETTO:-0700
RDATE:20260308T020000
END:DAYLIGHT
END:VTIMEZONE
BEGIN:VEVENT
UID:9ad1024e-2bb0-4099-a49d-f639ddd06414
DTSTAMP:20260419T154831Z
DESCRIPTION:Food distribution open to the public.
DTSTART;TZID=America/Los_Angeles:20250325T140000
DTEND;TZID=America/Los_Angeles:20250325T150000
LOCATION:3345 Santa Rosa Ave.\, Santa Rosa\, CA 95407 US
SUMMARY:Santa Rosa Food Distribution
END:VEVENT
END:VCALENDAR
